BEGIN:VCALENDAR
VERSION:2.0
PRODID:-//Spirit of Excellence - ECPv6.15.20//NONSGML v1.0//EN
CALSCALE:GREGORIAN
METHOD:PUBLISH
X-WR-CALNAME:Spirit of Excellence
X-ORIGINAL-URL:https://10poolsohio.com
X-WR-CALDESC:Events for Spirit of Excellence
REFRESH-INTERVAL;VALUE=DURATION:PT1H
X-Robots-Tag:noindex
X-PUBLISHED-TTL:PT1H
BEGIN:VTIMEZONE
TZID:UTC
BEGIN:STANDARD
TZOFFSETFROM:+0000
TZOFFSETTO:+0000
TZNAME:UTC
DTSTART:20250101T000000
END:STANDARD
END:VTIMEZONE
BEGIN:VEVENT
DTSTART;TZID=UTC:20260708T000000
DTEND;TZID=UTC:20260715T235900
DTSTAMP:20260420T075107
CREATED:20260308T160508Z
LAST-MODIFIED:20260308T183602Z
UID:7185-1783468800-1784159940@10poolsohio.com
SUMMARY:Lion King
DESCRIPTION:KeyBank State Theatre\n                                                                    \n                                \n                                    \n                                                                                    \n                                                July 8\, 2026\n                                                12:00 am\n                                            \n                                                                                \n                                            \n                                                Lion King                                            \n                                        \n                                                                                    KeyBank State Theatre July 8\, 2026 12:00 am Lion King…
URL:https://10poolsohio.com/event/lion-king/
LOCATION:KeyBank State Theatre
ATTACH;FMTTYPE=image/webp:https://10poolsohio.com/wp-content/uploads/2026/03/3160-theater-westend-the-lion-king.webp
END:VEVENT
END:VCALENDAR